BEGIN:VCALENDAR
VERSION:2.0
PRODID:-//ChamberMaster//Event Calendar 2.0//EN
METHOD:PUBLISH
X-PUBLISHED-TTL:P3D
REFRESH-INTERVAL:P3D
CALSCALE:GREGORIAN
BEGIN:VEVENT
DTSTART:20220507T130000Z
DTEND:20220507T203000Z
X-MICROSOFT-CDO-ALLDAYEVENT:FALSE
SUMMARY:38th Spring Fling Courthouse Show 2022
DESCRIPTION:Our 38th Annual Spring Fling Courthouse Show on Saturday\, May 7\, 2022.  This is an outdoor show with 130 vendor spaces that measure 10' X 10'.  This show is non-juried and applications are accepted on a first come\, first served basis until all booth spaces are reserved. \n\n\n\nVendor Information: Vendors have to sign up by Friday\, April 22nd\, to keep their previous year's space. No electricity\, tables or canopies are provided\, only the 10X10 area for the day. Vendors are required to setup 18 inches from the sidewalks to avoid sprinkler lines. Free parking is available in the designated municipal lots. Vendors may NOT park all day in the two-hour street spaces!\n\n\n\nIf you sell manufactured products (Mary Kay\, Pampered Chef\, It Works\, etc.) you are required to contact the MACC for approval. \n\n\n\nAny vendor with a canopy larger than 10x10 needs to obtain a building permit from the City of Mason. Two 10x10 canopies placed next to each other do not require a building permit. Please direct all questions to the City of Mason\, 517-676-9155. \n\n\n\nThis event is RAIN or SHINE. \n\n\n\nFood Vendor Information   (also full and closed)\n\nA separate food vendor application is required.  For future shows please contact the MACC at 517-676-1046.  Space is very limited and food vendor applications close one month prior to the event.  Food vendors will be provided with electricity only. Power is available at 15amp 110v and 30amp 220v.  Please contact the chamber with specific electricity needs. Water hook-up will not be provided -- please bring your own water supply.
X-ALT-DESC;FMTTYPE=text/html:<span style="font-family:arial\,sans-serif\;"><span style="font-size:16pt\;">Our 38th Annual Spring Fling Courthouse Show on Saturday\, May 7\, 2022.&nbsp\; This is an outdoor show with 130 vendor spaces that measure 10&#39\; X 10&#39\;.&nbsp\; This show is non-juried and applications are accepted on a first come\, first served basis until all booth spaces are reserved.&nbsp\;</span></span><br />\n<br />\n<strong><span style="font-family:arial\,sans-serif\;"><span style="font-size:16pt\;">Vendor Information</span></span></strong><span style="font-family:arial\,sans-serif\;"><span style="font-size:16pt\;">:&nbsp\;</span></span><span style="border:none windowtext 1.0pt\;padding:0in\;"><span style="font-family:arial\,sans-serif\;"><span style="font-size:16.0pt\;">Vendors have to sign up by <u>Friday\, April 22nd\,</u>&nbsp\;to keep their previous year&#39\;s space.&nbsp\;</span></span><span style="color:red\;"><span style="font-family:arial\,sans-serif\;"><span style="font-size:16.0pt\;">No electricity\, tables or canopies are provided\, only the 10X10 area for the day.</span></span></span></span><span style="color:#444444\;"><span style="font-family:arial\,sans-serif\;"><span style="font-size:16.0pt\;">&nbsp\;Vendors are required to setup 18 inches from the sidewalks to avoid sprinkler lines. Free parking is available in the designated municipal lots.&nbsp\;</span></span></span><span style="font-family:arial\,sans-serif\;"><span style="font-size:16pt\;">Vendors may <strong>NOT</strong> park all day in the two-hour street spaces!</span></span><br />\n<br />\n<span style="font-family:arial\,sans-serif\;"><span style="font-size:16pt\;"><strong>If you sell manufactured products (Mary Kay\, Pampered Chef\, It Works\, etc.) you are required to contact the MACC for approval. </strong></span></span><br />\n<br />\n<span style="color:#444444\;"><span style="font-family:arial\,sans-serif\;"><span style="font-size:16.0pt\;">Any vendor with a canopy larger than&nbsp\;10x10 needs to obtain a building permit from the <strong>City of Mason</strong>. Two&nbsp\;10x10&nbsp\;canopies placed next to each other do not require a building permit. Please direct all questions to the <strong>City of Mason</strong>\, 517-676-9155.&nbsp\;<br />\n<br />\nThis event is <strong>RAIN</strong> or <strong>SHINE</strong>.&nbsp\;</span></span></span><br />\n<br />\n<span style="color:#444444\;"><span style="font-family:arial\,sans-serif\;"><span style="font-size:16.0pt\;"><strong>Food Vendor Information</strong></span></span></span>&nbsp\; &nbsp\;(also full and closed)<br />\n<span style="font-family:arial\,sans-serif\;"><span style="font-size:16.0pt\;">A separate food vendor application is required.&nbsp\; For future shows please contact the MACC at 517-676-1046.&nbsp\; Space is very limited and f<u><span style="border:none windowtext 1.0pt\;padding:0in\;">ood vendor applications close&nbsp\;<strong>one month</strong>&nbsp\;prior to the event.</span></u>&nbsp\;&nbsp\;<u>Food vendors will be provided with electricity only.</u>&nbsp\;Power is available&nbsp\;at 15amp 110v and 30amp 220v.&nbsp\;&nbsp\;Please contact the chamber with specific electricity needs. Water hook-up will not be provided -- please bring your own water supply.&nbsp\;</span></span><br />\n<br />\n&nbsp\;
LOCATION:Ingham County Courthouse Square Mason Michigan (see map) Vendors will fill the area of the sidewalk and streets surrounding the courthouse at Jefferson Street\, Ash Street\, Barnes Street and Maple Street
UID:e.2879.4174
SEQUENCE:3
DTSTAMP:20260425T032037Z
URL:https://business.masonchamber.org/events/details/38th-spring-fling-courthouse-show-2022-4174
END:VEVENT

END:VCALENDAR
