BEGIN:VCALENDAR
VERSION:2.0
PRODID:-//ChamberMaster//Event Calendar 2.0//EN
METHOD:PUBLISH
X-PUBLISHED-TTL:P3D
REFRESH-INTERVAL:P3D
CALSCALE:GREGORIAN
BEGIN:VEVENT
DTSTART;VALUE=DATE:20200404
DTEND;VALUE=DATE:20200406
TRANSP:TRANSPARENT
X-MICROSOFT-CDO-ALLDAYEVENT:TRUE
SUMMARY:Antiques & April 2020 Simply Vintage Marketplace
DESCRIPTION:ANTIQUES AND APRIL FEATURED STORE: \n\nSimply Vintage Marketplace & Old Mill Antiques\n\nPlease note that each business has their own business hours.\n\n\n\nComing to Mason in April 2020\, ANTIQUES AND APRIL! Each weekend in April there will be a new featured Antique store. The businesses that will be featured over this month are Maple Street Mall\, Timeless Treasures of Mason\, Simply Vintage Marketplace\, Old Mill Antiques & Michigan Barn Wood & Salvage. Mason is known for our amazing antique malls and vintage inspired stores and they are teaming up to bring you an amazing shopping experience.\n\n\n\nApril Calendar:\n\nApril 4-5th Simply Vintage Marketplace & Old Mill Antiques\n\nApril 10-11th Michigan Barn Wood & Salvage\n\nApril 18-19th Timeless Treasures \n\nApril 25-26th Maple Street Mall
X-ALT-DESC;FMTTYPE=text/html:<span style="color: rgb(51\, 51\, 51)\; background-color: rgb(255\, 255\, 255)\; font-family: Arial\, Helvetica\, sans-serif\; font-size: 13.3333px\;"><span style="font-family: helvetica\, arial\, sans-serif\; color: rgb(29\, 33\, 41)\; font-size: 14px\; white-space: pre-wrap\;">ANTIQUES AND APRIL FEATURED STORE: </span></span><br />\n<span style="background-color: rgb(255\, 255\, 255)\; color: rgb(29\, 33\, 41)\; font-family: Helvetica\, Arial\, sans-serif\; font-size: 14px\; white-space: pre-wrap\;">Simply Vintage Marketplace &amp\; Old Mill Antiques</span><br />\n<span style="font-family: sans-serif\, Arial\, Verdana\, &quot\;Trebuchet MS&quot\;\; font-size: 13px\; color: rgb(255\, 0\, 0)\;"><span style="font-family: Helvetica\, Arial\, sans-serif\; font-size: 14px\; white-space: pre-wrap\; background-color: rgb(255\, 255\, 255)\;">Please note that each business has their own business hours.</span></span><br />\n<br />\n<span style="background-color: rgb(255\, 255\, 255)\; font-family: helvetica\, arial\, sans-serif\; color: rgb(29\, 33\, 41)\; font-size: 14px\; white-space: pre-wrap\;">Coming to Mason in April 2020\, ANTIQUES AND APRIL! Each weekend in April there will be a new featured Antique store. </span><span style="color: rgb(29\, 33\, 41)\; font-family: helvetica\, arial\, sans-serif\; font-size: 14px\; white-space: pre-wrap\;">The businesses that will be featured over this month are </span><span style="background-color: rgb(255\, 255\, 255)\; color: rgb(29\, 33\, 41)\; font-family: Helvetica\, Arial\, sans-serif\; font-size: 14px\; white-space: pre-wrap\;">Maple Street Mall\, Timeless Treasures of Mason\, Simply Vintage Marketplace\, Old Mill Antiques &amp\; Michigan Barn Wood &amp\; Salvage. Mason is known for our amazing antique malls and vintage inspired stores and they are teaming up to bring you an amazing shopping experience.<br />\n<br />\nApril Calendar:</span><br style="background-color: rgb(255\, 255\, 255)\; color: rgb(29\, 33\, 41)\; font-family: Helvetica\, Arial\, sans-serif\; font-size: 14px\; white-space: pre-wrap\;" />\n<span style="background-color: rgb(255\, 255\, 255)\; color: rgb(29\, 33\, 41)\; font-family: Helvetica\, Arial\, sans-serif\; font-size: 14px\; white-space: pre-wrap\;">April 4-5th Simply Vintage Marketplace &amp\; Old Mill Antiques</span><br style="background-color: rgb(255\, 255\, 255)\; color: rgb(29\, 33\, 41)\; font-family: Helvetica\, Arial\, sans-serif\; font-size: 14px\; white-space: pre-wrap\;" />\n<span style="background-color: rgb(255\, 255\, 255)\; color: rgb(29\, 33\, 41)\; font-family: Helvetica\, Arial\, sans-serif\; font-size: 14px\; white-space: pre-wrap\;">April 10-11th Michigan Barn Wood &amp\; Salvage</span><br style="background-color: rgb(255\, 255\, 255)\; color: rgb(29\, 33\, 41)\; font-family: Helvetica\, Arial\, sans-serif\; font-size: 14px\; white-space: pre-wrap\;" />\n<span style="background-color: rgb(255\, 255\, 255)\; color: rgb(29\, 33\, 41)\; font-family: Helvetica\, Arial\, sans-serif\; font-size: 14px\; white-space: pre-wrap\;">April 18-19th Timeless Treasures </span><br style="background-color: rgb(255\, 255\, 255)\; color: rgb(29\, 33\, 41)\; font-family: Helvetica\, Arial\, sans-serif\; font-size: 14px\; white-space: pre-wrap\;" />\n<span style="background-color: rgb(255\, 255\, 255)\; color: rgb(29\, 33\, 41)\; font-family: Helvetica\, Arial\, sans-serif\; font-size: 14px\; white-space: pre-wrap\;">April 25-26th Maple Street Mall </span>
LOCATION:Simply Vintage Marketplace: 208 N Mason St\, Mason\, MI 48854 Old Mill Antiques: 207 Mason St\, Mason\, MI 48854
UID:e.2879.4041
SEQUENCE:3
DTSTAMP:20260423T194203Z
URL:https://business.masonchamber.org/events/details/antiques-april-2020-simply-vintage-marketplace-4041
END:VEVENT

END:VCALENDAR
