BEGIN:VCALENDAR
VERSION:2.0
PRODID:-//ChamberMaster//Event Calendar 2.0//EN
METHOD:PUBLISH
X-PUBLISHED-TTL:P3D
REFRESH-INTERVAL:P3D
CALSCALE:GREGORIAN
BEGIN:VEVENT
DTSTART:20200214T231500Z
DTEND:20200215T010000Z
X-MICROSOFT-CDO-ALLDAYEVENT:FALSE
SUMMARY:CADL Adventurers Role-Playing Game Club - February 2020
DESCRIPTION:Embark on a creative adventure each month! This month's game is Dr. Who. Held after library closes (use ramp door). Ages 12-17
X-ALT-DESC;FMTTYPE=text/html:Embark on a creative adventure each month! This month&#39\;s game is Dr. Who. Held after library closes (use ramp door). Ages 12-17
LOCATION:Mason Library 145 W. Ash Street
UID:e.2879.4036
SEQUENCE:3
DTSTAMP:20260422T194938Z
URL:https://business.masonchamber.org/events/details/cadl-adventurers-role-playing-game-club-february-2020-4036
END:VEVENT

END:VCALENDAR
