BEGIN:VCALENDAR
VERSION:2.0
PRODID:-//ChamberMaster//Event Calendar 2.0//EN
METHOD:PUBLISH
X-PUBLISHED-TTL:P3D
REFRESH-INTERVAL:P3D
CALSCALE:GREGORIAN
BEGIN:VEVENT
DTSTART:20230520T130000Z
DTEND:20230520T160000Z
X-MICROSOFT-CDO-ALLDAYEVENT:FALSE
SUMMARY:Friends of the Mason Library Plant Sale & Exchange (CADL) - May 20th\, 2023
DESCRIPTION:Gardeners are invited to visit the Mason City Hall parking lot at 201 W. Ash St. to donate plants\, plus find some great new selections in exchange for a monetary donation to the Friends of the Mason Library.
X-ALT-DESC;FMTTYPE=text/html:Gardeners are invited to visit the Mason City Hall parking lot at 201 W. Ash St. to donate plants\, plus find some great new selections in exchange for a monetary donation to the Friends of the Mason Library.
LOCATION:Mason City Hall parking lot at 201 W. Ash St.\, Mason MI\, 48854
UID:e.2879.4198
SEQUENCE:3
DTSTAMP:20260422T232600Z
URL:https://business.masonchamber.org/events/details/friends-of-the-mason-library-plant-sale-exchange-cadl-may-20th-2023-4198
END:VEVENT

END:VCALENDAR
