BEGIN:VCALENDAR
VERSION:2.0
PRODID:-//ChamberMaster//Event Calendar 2.0//EN
METHOD:PUBLISH
X-PUBLISHED-TTL:P3D
REFRESH-INTERVAL:P3D
CALSCALE:GREGORIAN
BEGIN:VEVENT
DTSTART:20260305T210000Z
DTEND:20260305T233000Z
X-MICROSOFT-CDO-ALLDAYEVENT:FALSE
SUMMARY:MACC Chamber Mixer 3/5/2026
DESCRIPTION:Chamber Mixer\n\n4:30 6:30 PM\n\n\n\nLocation: To be announced\n\nJoin us for an evening of connection and community! Enjoy free admission\, beverages\, and snacks as you mingle\, network\, and relax.\n\nWe'll also have a 50/50 raffle and plenty of opportunities to meet fellow Chamber and community members.\n\nEveryone is welcome\, come spend an evening in Mason with us!
X-ALT-DESC;FMTTYPE=text/html:<div class="kvgmc6g5 cxmmr5t8 oygrvhab hcukyx3x c1et5uql" style="overflow-wrap: break-word\; margin: 0px\; font-family: &quot\;Segoe UI Historic&quot\;\, &quot\;Segoe UI&quot\;\, Helvetica\, Arial\, sans-serif\; color: rgb(5\, 5\, 5)\; font-size: 15px\;">Chamber Mixer<br />\n4:30&ndash\;6:30 PM<br />\n<br />\n<em>Location: To be announced</em><br />\nJoin us for an evening of connection and community! Enjoy free admission\, beverages\, and snacks as you mingle\, network\, and relax.<br />\nWe&rsquo\;ll also have a 50/50 raffle and plenty of opportunities to meet fellow Chamber and community members.<br />\nEveryone is welcome\, come spend an evening in Mason with us!</div>\n
LOCATION:TBD
UID:e.2879.6164
SEQUENCE:3
DTSTAMP:20260419T134927Z
URL:https://business.masonchamber.org/events/details/macc-chamber-mixer-3-5-2026-6164
END:VEVENT

END:VCALENDAR
