BEGIN:VCALENDAR
VERSION:2.0
PRODID:-//ChamberMaster//Event Calendar 2.0//EN
METHOD:PUBLISH
X-PUBLISHED-TTL:P3D
REFRESH-INTERVAL:P3D
CALSCALE:GREGORIAN
BEGIN:VEVENT
DTSTART:20261203T223000Z
DTEND:20261204T013000Z
X-MICROSOFT-CDO-ALLDAYEVENT:FALSE
SUMMARY:*MACC Holiday Mixer & Taste of Mason 2026
DESCRIPTION:
X-ALT-DESC;FMTTYPE=text/html:<div class="kvgmc6g5 cxmmr5t8 oygrvhab hcukyx3x c1et5uql ii04i59q" color:="" font-size:="" segoe="" style="overflow-wrap: break-word\; margin: 0px\; white-space: pre-wrap\; font-family: " ui="">\n<div dir="auto" style="font-family: inherit\;">&nbsp\;</div>\n</div>\n
LOCATION:Eldorado Golf Course 3750 W. Howell Rd. Mason\, MI 48854
UID:e.2879.6196
SEQUENCE:3
DTSTAMP:20260425T184038Z
URL:https://business.masonchamber.org/events/details/macc-holiday-mixer-taste-of-mason-2026-6196
END:VEVENT

END:VCALENDAR
