BEGIN:VCALENDAR
VERSION:2.0
PRODID:-//ChamberMaster//Event Calendar 2.0//EN
METHOD:PUBLISH
X-PUBLISHED-TTL:P3D
REFRESH-INTERVAL:P3D
CALSCALE:GREGORIAN
BEGIN:VEVENT
DTSTART:20240213T153000Z
DTEND:20240213T160000Z
X-MICROSOFT-CDO-ALLDAYEVENT:FALSE
SUMMARY:Preschool Storytime (CADL Mason Library) - 2024
DESCRIPTION:Enjoy songs\, rhymes\, and stories with Miss Lindsay. PLEASE NOTE: During the CADL Mason renovation project\, Preschool Storytimes will take place at Mason City Hall. On January 16 and February 20\, we will be on the 2nd floor of City Hall in the Maple Room. On all other dates\, we will be on the 1st floor in the Sycamore Room.
X-ALT-DESC;FMTTYPE=text/html:Enjoy songs\, rhymes\, and stories with Miss Lindsay. PLEASE NOTE: During the CADL Mason renovation project\, Preschool Storytimes will take place at Mason City Hall. On January 16 and February 20\, we will be on the 2nd floor of City Hall in the Maple Room. On all other dates\, we will be on the 1st floor in the Sycamore Room.
LOCATION:Held off-site: Mason City Hall 201 W Ash St Mason\, MI 48854 Jan. 16 & Feb. 20: In the Maple Room (2nd Floor) All Other Dates: In the Sycamore Room (1st Floor)
UID:e.2879.4717
SEQUENCE:3
DTSTAMP:20260422T191010Z
URL:https://business.masonchamber.org/events/details/preschool-storytime-cadl-mason-library-02-13-2024-4717
END:VEVENT

END:VCALENDAR
