BEGIN:VCALENDAR
VERSION:2.0
PRODID:-//ChamberMaster//Event Calendar 2.0//EN
METHOD:PUBLISH
X-PUBLISHED-TTL:P3D
REFRESH-INTERVAL:P3D
CALSCALE:GREGORIAN
BEGIN:VEVENT
DTSTART:20230404T143000Z
DTEND:20230404T150000Z
X-MICROSOFT-CDO-ALLDAYEVENT:FALSE
SUMMARY:Preschool Storytime (CADL Mason Library)
DESCRIPTION:Engaging stories\, songs and activities to help build early literacy skills.
X-ALT-DESC;FMTTYPE=text/html:<span style="color:black"><span style="font-family:avenir next lt pro\,serif"><span style="font-size:11.0pt">Engaging stories\, songs and activities to help build early literacy skills.</span></span></span>
LOCATION:CADL Mason Library 145 W Ash St Mason\, MI 48854
UID:e.2879.4488
SEQUENCE:3
DTSTAMP:20260425T141144Z
URL:https://business.masonchamber.org/events/details/preschool-storytime-cadl-mason-library-04-04-2023-4488
END:VEVENT

END:VCALENDAR
